BEGIN:VCALENDAR
VERSION:2.0
PRODID:icalendar-ruby
CALSCALE:GREGORIAN
BEGIN:VEVENT
DTSTAMP:20260419T141813Z
UID:2ad52b4e-e7ee-4cb3-9d4d-1042093dbc2c
DTSTART;TZID=Pacific/Auckland:20260419T133000
DTEND;TZID=Pacific/Auckland:20260419T140000
DESCRIPTION:Property ID# 605922
SUMMARY:Openhome for 8 Johnson Street
END:VEVENT
END:VCALENDAR
